BEGIN:VCALENDAR
VERSION:2.0
PRODID:-//Cityside Schools...the partnership that works!
CALSCALE:GREGORIAN
METHOD:PUBLISH
X-WR-CALNAME:Cityside Schools...the partnership that works!
X-ORIGINAL-URL:https://citysideschools.org/event/school-cultural-day/
X-WR-CALDESC:School Cultural Day
BEGIN:VEVENT
DTSTART:20180305T080000
DTEND:20180323T140000
SUMMARY:School Cultural Day
DESCRIPTION:
LOCATION:School Compound, Sagamu, Ogun State
END:VEVENT
END:VCALENDAR
