BEGIN:VCALENDAR
VERSION:2.0
PRODID:-//Cityside Schools...the partnership that works!
CALSCALE:GREGORIAN
METHOD:PUBLISH
X-WR-CALNAME:Cityside Schools...the partnership that works!
X-ORIGINAL-URL:https://citysideschools.org/event/music-day/
X-WR-CALDESC:Music Day
BEGIN:VEVENT
DTSTART:20180219T093000
DTEND:20180223T170000
SUMMARY:Music Day
DESCRIPTION:
LOCATION:School Compound, Sagamu, Ogun State
END:VEVENT
END:VCALENDAR
