BEGIN:VCALENDAR
VERSION:2.0
PRODID:-//Cityside Schools...the partnership that works!
CALSCALE:GREGORIAN
METHOD:PUBLISH
X-WR-CALNAME:Cityside Schools...the partnership that works!
X-ORIGINAL-URL:https://citysideschools.org/event/school-inter-house-sports/
X-WR-CALDESC:School Inter-House Sports
BEGIN:VEVENT
DTSTART:20180108T070000
DTEND:20180112T160000
SUMMARY:School Inter-House Sports
DESCRIPTION:
LOCATION:School Compound, Sagamu, Ogun State
END:VEVENT
END:VCALENDAR
